BEGIN:VCALENDAR
VERSION:2.0
PRODID:icalendar-ruby
CALSCALE:GREGORIAN
METHOD:PUBLISH
BEGIN:VEVENT
DTSTAMP:20260423T112157Z
UID:72-507813@hillsidefmc.org
DTSTART:20250427T143000Z
DTEND:20250427T153000Z
CLASS:PUBLIC
CREATED:20260422T222420
DESCRIPTION:Sunday Service
LAST-MODIFIED:20260422T222420
LOCATION:Hillside FMC - 753 McNabb St.
SUMMARY:Sunday Worship Service
URL;VALUE=URI:https://www.hillsidefmc.org/events/sunday-worship-service/202
 5-04-27
ATTACH;FILENAME=003---mobile---Banner-Worship-Team.jpg;FMTTYPE=image/jpeg:h
 ttps://dq5pwpg1q8ru0.cloudfront.net/2025/01/08/19/49/21/b63f883c-82d1-4eff
 -b20d-2093f3080dfb/003---mobile---Banner-Worship-Team.jpg
END:VEVENT
END:VCALENDAR
